BEGIN:VCALENDAR
VERSION:2.0
PRODID:-//Marsica Sharing - ECPv6.15.20//NONSGML v1.0//EN
CALSCALE:GREGORIAN
METHOD:PUBLISH
X-WR-CALNAME:Marsica Sharing
X-ORIGINAL-URL:https://marsicasharing.com
X-WR-CALDESC:Eventi per Marsica Sharing
REFRESH-INTERVAL;VALUE=DURATION:PT1H
X-Robots-Tag:noindex
X-PUBLISHED-TTL:PT1H
BEGIN:VTIMEZONE
TZID:UTC
BEGIN:STANDARD
TZOFFSETFROM:+0000
TZOFFSETTO:+0000
TZNAME:UTC
DTSTART:20200101T000000
END:STANDARD
END:VTIMEZONE
BEGIN:VEVENT
DTSTART;TZID=UTC:20211208T100000
DTEND;TZID=UTC:20211208T130000
DTSTAMP:20260423T115202
CREATED:20211120T140932Z
LAST-MODIFIED:20211205T191828Z
UID:906-1638957600-1638968400@marsicasharing.com
SUMMARY:Tour guidato di Alba Fucens
DESCRIPTION:Un Tour guidato ad Alba Fucens all’insegna dell’inclusività!\n\n\nIl nostro viaggio alla scoperta del tema dell’inclusività prosegue con un evento dal vivo futto della collaborazione con Appennini for all ed Ethnobrain Marsica.\n\n\nL’evento\, patrocinato dal Ministero della Cultura\, ha come obiettivo quello di dar vita ad un esperienza aperta a tutti\, nell’ottica di un turismo sempre più inclusivo.\n\n\nPer l’occasione avremo a disposizione una guida esperta\, un interprete LIS e due joelette!\n\n\nUn ringraziamento speciale anche a DMC Marsica e Ente Nazionale Sordi – Onlus per il loro fondamentale contributo.\n\n\nATTENZIONE: I posti per questo evento sono limitati\, chiamateci o scriveteci per prenotarvi o avere informazioni sull’evento.\n\nIn caso di maltempo si farà una visita guidata al Castello di Celano!\n\nCosto € 8\,00\n349 314 2544 – 338 924 8991\ninfo@appenniniforall.com – info@marsicasharing.com
URL:https://marsicasharing.com/event/tour-guidato-di-alba-fucens/
LOCATION:DAL VIVO
CATEGORIES:DAL VIVO
ATTACH;FMTTYPE=image/jpeg:https://marsicasharing.com/wp-content/uploads/2021/11/tour.jpg
END:VEVENT
END:VCALENDAR