BEGIN:VCALENDAR
VERSION:2.0
PRODID:-//Marsica Sharing - ECPv6.15.20//NONSGML v1.0//EN
CALSCALE:GREGORIAN
METHOD:PUBLISH
X-WR-CALNAME:Marsica Sharing
X-ORIGINAL-URL:https://marsicasharing.com
X-WR-CALDESC:Eventi per Marsica Sharing
REFRESH-INTERVAL;VALUE=DURATION:PT1H
X-Robots-Tag:noindex
X-PUBLISHED-TTL:PT1H
BEGIN:VTIMEZONE
TZID:UTC
BEGIN:STANDARD
TZOFFSETFROM:+0000
TZOFFSETTO:+0000
TZNAME:UTC
DTSTART:20200101T000000
END:STANDARD
END:VTIMEZONE
BEGIN:VEVENT
DTSTART;TZID=UTC:20211213T213000
DTEND;TZID=UTC:20211213T233000
DTSTAMP:20260423T120622
CREATED:20211208T200531Z
LAST-MODIFIED:20211208T200531Z
UID:932-1639431000-1639438200@marsicasharing.com
SUMMARY:Roots/Radici con Franco Franciosi\, chef di Mammaròssa.
DESCRIPTION:L’incontro di questo mese nasce dal fruttuoso incontro con Franco Franciosi\, chef di Mammaròssa.\nDa anni Franco e la sua brigata promuovono un approccio alla cucina di più ampio respiro\, una cucina dai risvolti sociali che parla all’animo e smuove le coscienze delle persone. \nNe è testimonianza il progetto “Quote”\, recentemente premiato come Menù di territorio dell’anno dal Gambero Rosso. L’obiettivo del progetto è quello di raccontare l’Abruzzo con un punto di vista ed un linguaggio nuovo\, descrivendo la regione attraverso le sue altimetrie\, dal livello 0 del mare fino ad arrivare alle vette più alte di quasi 3000 metri; un viaggio alla scoperta di storie del passato e possibilità nuove\, tra tradizione e costruzione del futuro. \nLa cucina si trasforma così in strumento attraverso il quale raccontare\, conoscere e acquisire maggiore consapevolezza del territorio in cui viviamo.\nLa ricerca identitaria che emerge dal lavoro di Mammaròssa si sposa perfettamente con la tematica del mese di Marsica Sharing: Quali sono le nostre tradizioni? Conosciamo il territorio che chiamiamo “CASA”? Ci sentiamo davvero parte di esso?\nInfine\, la domanda più importante\, esiste un’identità territoriale nella Marsica? \nSe siete interessati a scoprilo\, non perdete il prossimo appuntamento di Marsica Sharing! \nLink per iscriversi alla nostra mailing list:\nhttps://mailchi.mp/1ef3e818e6aa/marsica-sharing
URL:https://marsicasharing.com/event/roots-radici-con-franco-franciosi-chef-di-mammarossa/
LOCATION:ONLINE
CATEGORIES:WEBINAR
ATTACH;FMTTYPE=image/jpeg:https://marsicasharing.com/wp-content/uploads/2021/12/webinar-marsica-sharing.jpg
END:VEVENT
END:VCALENDAR