BEGIN:VCALENDAR
VERSION:2.0
PRODID:-//Marsica Sharing - ECPv6.15.20//NONSGML v1.0//EN
CALSCALE:GREGORIAN
METHOD:PUBLISH
X-WR-CALNAME:Marsica Sharing
X-ORIGINAL-URL:https://marsicasharing.com
X-WR-CALDESC:Eventi per Marsica Sharing
REFRESH-INTERVAL;VALUE=DURATION:PT1H
X-Robots-Tag:noindex
X-PUBLISHED-TTL:PT1H
BEGIN:VTIMEZONE
TZID:UTC
BEGIN:STANDARD
TZOFFSETFROM:+0000
TZOFFSETTO:+0000
TZNAME:UTC
DTSTART:20210101T000000
END:STANDARD
END:VTIMEZONE
BEGIN:VEVENT
DTSTART;TZID=UTC:20220130T110000
DTEND;TZID=UTC:20220130T123000
DTSTAMP:20260423T101654
CREATED:20220123T181831Z
LAST-MODIFIED:20220123T182031Z
UID:1032-1643540400-1643545800@marsicasharing.com
SUMMARY:Storie dal Campo
DESCRIPTION:Siamo felici di invitarvi al prossimo evento LIVE di Marsica Sharing in collaborazione con Piccola biblioteca marsicana e l’ Associazione Teatro Lanciavicchio.\nSarà una passeggiata unica nel suo genere\, un vero è proprio viaggio che\, grazie alla recitazione e alla lettura\, ci svelerà tappe importanti della storia del nostro territorio.\n\nQuando: 30/01/2022 ore 11\n\nPunto di ritrovo: Fontanella della Pineta – Avezzano (AQ)\n\nContributo evento: 5 euro\n\nPrenotazione obbligatoria:\nGiorgio – 3389248991\nAntonio – 3661153577
URL:https://marsicasharing.com/event/storie-dal-campo/
LOCATION:DAL VIVO
CATEGORIES:DAL VIVO
ATTACH;FMTTYPE=image/png:https://marsicasharing.com/wp-content/uploads/2022/01/Cover_FB_Live.png
END:VEVENT
END:VCALENDAR