BEGIN:VCALENDAR
VERSION:2.0
PRODID:-//Marsica Sharing - ECPv6.15.20//NONSGML v1.0//EN
CALSCALE:GREGORIAN
METHOD:PUBLISH
X-WR-CALNAME:Marsica Sharing
X-ORIGINAL-URL:https://marsicasharing.com
X-WR-CALDESC:Eventi per Marsica Sharing
REFRESH-INTERVAL;VALUE=DURATION:PT1H
X-Robots-Tag:noindex
X-PUBLISHED-TTL:PT1H
BEGIN:VTIMEZONE
TZID:UTC
BEGIN:STANDARD
TZOFFSETFROM:+0000
TZOFFSETTO:+0000
TZNAME:UTC
DTSTART:20210101T000000
END:STANDARD
END:VTIMEZONE
BEGIN:VEVENT
DTSTART;TZID=UTC:20220227T110000
DTEND;TZID=UTC:20220227T130000
DTSTAMP:20260423T085213
CREATED:20220221T181824Z
LAST-MODIFIED:20220221T181932Z
UID:1119-1645959600-1645966800@marsicasharing.com
SUMMARY:Street Book
DESCRIPTION:Siamo felici di invitarvi al nostro primo STREET BOOK\, organizzato in collaborazione Sessantasettezerocinquantuno\, Radici Edizioni e Edizioni Kirke e con il patrocinio del Comune di Avezzano.\nL’idea nasce dalla volontà di valorizzare la bibliocabina costruita dagli amici di sessantasettezerocinquantono\, a Piazza Torlonia\, come luogo di condivisione e incontro per tutti gli appassionati di lettura.\n\n\nStreet book è una mattinata dedicata a letture e narrazioni\, nella quale avrete modo di ascoltare autori locali alle prese con l’interpretazione dei propri libri.\n\n\nA tutti i partecipanti daremo inoltre la possilità\, se vorranno\, di portare un libro e leggere un estratto che apprezzano particolarmente!!!\n\n\nContribuite anche voi a far crescere la bibliocabina donando un libro!!!\n\n\nCi vediamo domenica 27 febbraio\, dalle ore 11 a Piazza Torlonia!
URL:https://marsicasharing.com/event/street-book/
CATEGORIES:DAL VIVO
ATTACH;FMTTYPE=image/jpeg:https://marsicasharing.com/wp-content/uploads/2022/02/marsica-sharing-street-book.jpg
END:VEVENT
END:VCALENDAR