BEGIN:VCALENDAR
VERSION:2.0
PRODID:-//Marsica Sharing - ECPv6.15.20//NONSGML v1.0//EN
CALSCALE:GREGORIAN
METHOD:PUBLISH
X-ORIGINAL-URL:https://marsicasharing.com
X-WR-CALDESC:Eventi per Marsica Sharing
REFRESH-INTERVAL;VALUE=DURATION:PT1H
X-Robots-Tag:noindex
X-PUBLISHED-TTL:PT1H
BEGIN:VTIMEZONE
TZID:UTC
BEGIN:STANDARD
TZOFFSETFROM:+0000
TZOFFSETTO:+0000
TZNAME:UTC
DTSTART:20200101T000000
END:STANDARD
END:VTIMEZONE
BEGIN:VEVENT
DTSTART;TZID=UTC:20211011T213000
DTEND;TZID=UTC:20211011T230000
DTSTAMP:20260423T133943
CREATED:20210915T074033Z
LAST-MODIFIED:20211006T042648Z
UID:258-1633987800-1633993200@marsicasharing.com
SUMMARY:La plastica: un materiale che ha cambiato il mondo
DESCRIPTION:Nel primo appuntamento parleremo di uno dei temi più discussi dell’ultimo periodo: La Plastica. \nTratteremo l’argomento con un ospite d’eccezione\, Marco Fracassi\, Presidente di Confidunstria Abruzzo e Amministratore unico della Fama Plast SRL\, azienda che da più di 40 anni opera sul territorio nell’ambito della lavorazione di materie plastiche. \nSarà l’occasione per conoscere più da vicino gli aspetti che riguardano la trasformazione di questo materiale e gli impatti che ha avuto sulla nostra società ma anche di focalizzarci sulle sfide tecnologiche e comunitarie intimate dalla crescente necessità di un utilizzo più consapevole e sostenibile del prodotto.
URL:https://marsicasharing.com/event/nuova-stagione-di-marsica-sharing/
LOCATION:ONLINE
CATEGORIES:WEBINAR
ATTACH;FMTTYPE=image/jpeg:https://marsicasharing.com/wp-content/uploads/2021/09/unnamed.jpg
END:VEVENT
BEGIN:VEVENT
DTSTART;VALUE=DATE:20211030
DTEND;VALUE=DATE:20211101
DTSTAMP:20260423T133943
CREATED:20211024T095328Z
LAST-MODIFIED:20211024T095407Z
UID:847-1635552000-1635724799@marsicasharing.com
SUMMARY:I mille volti della plastica
DESCRIPTION:Primo evento LIVE di Marsica Sharing.\nVenite a conoscerci dal vivo il 30 e il 31 ottobre alla sede Proloco di Avezzano in via Corradini 75!\nLe attività in programma:\n– Mostra di recupero creativo dell’artista Filippo Odorisio.\n– Percorso didattico incentrato sul tema della plastica. Raccolta\, riciclo e recupero creativo.\n– Presentazione ufficiale della neonata associazione Marsica Sharing.\nSponsor ufficiali evento:\nEssebi ristorazione – Tekneko – Famaplast srl
URL:https://marsicasharing.com/event/i-mille-volti-della-plastica/
LOCATION:DAL VIVO
CATEGORIES:DAL VIVO
ATTACH;FMTTYPE=image/jpeg:https://marsicasharing.com/wp-content/uploads/2021/10/marsica-sharing-plastica-1.jpg
END:VEVENT
END:VCALENDAR